BEGIN:VCALENDAR
PRODID:-//AT Content Types//AT Event//EN
VERSION:2.0
METHOD:PUBLISH
BEGIN:VEVENT
DTSTAMP:20260425T215553Z
CREATED:20110222T121517Z
UID:ATEvent-d4772c0ee04678a6a4982918d4cc583c
LAST-MODIFIED:20110222T121522Z
SUMMARY:PÃ¼spÃ¶kvÃ¡lasztÃ¡si kÃ¶zgyÅ±lÃ©s
DTSTART:20110327T080000Z
DTEND:20110327T100000Z
DESCRIPTION:A 10. Ã³rÃ¡s istentiszteletet kÃ¶vetÅ‘en\n A Nyugati (DunÃ
 ¡ntÃºli) EgyhÃ¡zkerÃ¼let gyÃ¼lekezeteiben 2011. mÃ¡rcius 17. Ã©s 27. k
 Ã¶zÃ¶tt kerÃ¼lt sor a pÃ¼spÃ¶kvÃ¡lasztÃ¡sra. Az ezekrÅ‘l kÃ©szÃ¼lt jeg
 yzÅ‘kÃ¶nyvi kivonatokat 2011. mÃ¡rcius 31-ig kÃ¼ldtÃ©k be a gyÃ¼lekeze
 tek a jelÃ¶lÅ‘bizottsÃ¡g szÃ¡mÃ¡ra. Ezeket Ã¡prilis elsÅ‘ hetÃ©ben fog
 jÃ¡k kiÃ©rtÃ©kelni a bizottsÃ¡g tagjai. Ekkor derÃ¼l majd ki az\, ki l
 esz az Ãºj pÃ¼spÃ¶k a Nyugati (DunÃ¡ntÃºli) EgyhÃ¡zkerÃ¼letben.
CLASS:PUBLIC
END:VEVENT
END:VCALENDAR
