BEGIN:VCALENDAR
PRODID:-//AT Content Types//AT Event//EN
VERSION:1.0
BEGIN:VEVENT
DTSTART:20110528T101500Z
DTEND:20110528T101500Z
DCREATED:20110222T121619Z
UID:ATEvent-3c83801fccb3f905f255adf8064b0f01
SEQUENCE:0
LAST-MODIFIED:20110222T121623Z
SUMMARY:Egyházkerületi missziói nap
PRIORITY:3
TRANSP:0
END:VEVENT
END:VCALENDAR
